BEGIN:VCALENDAR
VERSION:2.0
PRODID:-//ChamberMaster//Event Calendar 2.0//EN
METHOD:PUBLISH
X-PUBLISHED-TTL:P3D
REFRESH-INTERVAL:P3D
CALSCALE:GREGORIAN
BEGIN:VEVENT
DTSTART:20180117T163000Z
DTEND:20180117T180000Z
X-MICROSOFT-CDO-ALLDAYEVENT:FALSE
SUMMARY:Tax Reform Luncheon
DESCRIPTION:Get educated on the recently passed Tax Reform and Jobs Act\, including information on how to move forward with business and personal planning. \n \n\nWilliam North from Hill\, Barth and King CPAs & Consultants will be leading the discussion. Bill is Principal-in-Charge of the Sarasota\, Florida office of HBK CPAs & Consultants. He became a Certified Public Accountant in 1998 and merged with HBK in 2009.\n\nBill has extensive experience in the areas of taxation and business consulting for the construction industry. In 2005\, he became a Certified Construction Industry Financial Professional. Bill also provides accounting services to\n\nvarious closely-held businesses in other industries as well as individuals.
X-ALT-DESC;FMTTYPE=text/html:<span style="font-family:times new roman\;"><span style="font-size:14px\;">Get educated on the recently passed Tax Reform and Jobs Act\, including information on how to move forward with business and personal planning.&nbsp\;</span></span>\n<div>&nbsp\;</div>\n\n<div><span style="font-family:times new roman\;"><span style="font-size:14px\;">William North from Hill\, Barth and King CPAs &amp\; Consultants will be leading the discussion.&nbsp\;<span style="color: rgb(95\, 96\, 98)\;">Bill is Principal-in-Charge of the Sarasota\, Florida office of HBK CPAs &amp\; Consultants. He became a Certified Public Accountant in 1998 and merged with HBK in 2009.</span></span></span></div>\n\n<p style="margin-bottom:20.2pt\;vertical-align:baseline\;box-sizing: inherit\;\nfont-style:inherit\;font-weight:inherit\;outline: 0px"><span style="font-family:times new roman\;"><span style="font-size:14px\;"><span style="color: rgb(95\, 96\, 98)\;">Bill has extensive experience in the areas of taxation and business consulting for the construction industry. In 2005\, he became a Certified Construction Industry Financial Professional. Bill also provides accounting services to<br />\nvarious closely-held businesses in other industries as well as individuals.</span></span></span><span style="font-family:\n&quot\;Arial&quot\;\,&quot\;sans-serif&quot\;\;color:#5F6062"><o:p></o:p></span></p>\n\n<div>&nbsp\;</div>\n\n<div>&nbsp\;</div>\n
LOCATION:MSBIA Office 6650 Professional Pkwy Suite 102 Sarasota\, FL 34240
UID:e.9232.1848
SEQUENCE:3
DTSTAMP:20260423T035303Z
URL:https://business.suncoastba.org/events/details/tax-reform-luncheon-1848
END:VEVENT

END:VCALENDAR
