BEGIN:VCALENDAR
VERSION:2.0
PRODID:-//ChamberMaster//Event Calendar 2.0//EN
METHOD:PUBLISH
X-PUBLISHED-TTL:P3D
REFRESH-INTERVAL:P3D
CALSCALE:GREGORIAN
BEGIN:VEVENT
DTSTART:20201016T210000Z
DTEND:20201017T000000Z
X-MICROSOFT-CDO-ALLDAYEVENT:FALSE
SUMMARY:Trunk or Treat (October GMM)
DESCRIPTION:Join the MSBIA for our first ever Trunk or Treat. Families welcome\, costumes encouraged.\n\n\n\nMembers please considering sponsoring your "trunk\," decorate your cars and bring some candy for kids.\n\n\n\nThis will be our October GMM.
X-ALT-DESC;FMTTYPE=text/html:Join the MSBIA for our first ever Trunk or Treat. Families welcome\, costumes encouraged.<br />\n<br />\nMembers please considering sponsoring your &quot\;trunk\,&quot\; decorate your cars and bring some candy for kids.<br />\n<br />\nThis will be our October GMM.
LOCATION:MSBIA Office 6650 Professional Pkwy West Suite 102 Sarasota\, FL 34240
UID:e.9232.2621
SEQUENCE:3
DTSTAMP:20260423T134939Z
URL:https://business.suncoastba.org/events/details/trunk-or-treat-october-gmm-2621
END:VEVENT

END:VCALENDAR
