BEGIN:VCALENDAR
VERSION:2.0
PRODID:-//ChamberMaster//Event Calendar 2.0//EN
METHOD:PUBLISH
X-PUBLISHED-TTL:P3D
REFRESH-INTERVAL:P3D
CALSCALE:GREGORIAN
BEGIN:VEVENT
DTSTART:20200407T130000Z
DTEND:20200407T150000Z
X-MICROSOFT-CDO-ALLDAYEVENT:FALSE
SUMMARY:Update from the Building Officials - Zoom Meeting
DESCRIPTION:Join us for a Building Officials (Sarasota & Manatee Counties) virtual Zoom Meeting! \n\nLIMITED TO 100 ATTENDEES
X-ALT-DESC;FMTTYPE=text/html:Join us for a Building Officials (Sarasota &amp\; Manatee Counties) virtual Zoom Meeting!&nbsp\;<br />\n<strong>LIMITED TO 100 ATTENDEES</strong>
LOCATION:Virtual Zoom Meeting: Join URL: https://us04web.zoom.us/j/765466300
UID:e.9232.2586
SEQUENCE:3
DTSTAMP:20260423T232314Z
URL:https://business.suncoastba.org/events/details/update-from-the-building-officials-zoom-meeting-2586
END:VEVENT

END:VCALENDAR
