BEGIN:VCALENDAR
VERSION:2.0
PRODID:-//ChamberMaster//Event Calendar 2.0//EN
METHOD:PUBLISH
X-PUBLISHED-TTL:P3D
REFRESH-INTERVAL:P3D
CALSCALE:GREGORIAN
BEGIN:VEVENT
DTSTART:20220601T203000Z
DTEND:20220601T213000Z
X-MICROSOFT-CDO-ALLDAYEVENT:FALSE
SUMMARY:Workforce Development Committee Meeting
DESCRIPTION:Join us for our Workforce Development Committee Meeting. This taskforce is dedicated to helping work on our current labor shortage issue.
X-ALT-DESC;FMTTYPE=text/html:Join us for our Workforce Development Committee Meeting. This taskforce is dedicated to helping work on our current labor shortage issue.
LOCATION:MSBIA Office 6650 Professional Pkwy W Suite 102 Sarasota\, FL 34240
UID:e.9232.2983
SEQUENCE:3
DTSTAMP:20260422T095121Z
URL:https://business.suncoastba.org/events/details/workforce-development-committee-meeting-2983
END:VEVENT

END:VCALENDAR
