BEGIN:VCALENDAR
VERSION:2.0
PRODID:-//ChamberMaster//Event Calendar 2.0//EN
METHOD:PUBLISH
X-PUBLISHED-TTL:P3D
REFRESH-INTERVAL:P3D
CALSCALE:GREGORIAN
BEGIN:VEVENT
DTSTART:20220623T210000Z
DTEND:20220624T000000Z
X-MICROSOFT-CDO-ALLDAYEVENT:FALSE
SUMMARY:X-treme Networking
DESCRIPTION:X-treme Networking "Meet the Builder" is one of our most popular events.\n\n\n\nThis is the perfect opportunity to meet with local builders and promote your business one on one. VIP hour is limited and guarantees each attendee has 4 set appointments. After that there is 2 hours of networking with the Builders\, food and beverage provided. Space is limited sign up now!\n\n\n\nClick Here for Registration Form
X-ALT-DESC;FMTTYPE=text/html:<br />\n<span font-size:="" style="color: rgb(51\, 51\, 51)\; font-family: sans-serif\, Arial\, Verdana\, " trebuchet=""><span style="font-family: arial\;"><span style="font-size: 12pt\;">&nbsp\;X-treme&nbsp\;Networking &quot\;Meet the Builder&quot\; is one of our most popular events.</span></span></span><br font-size:="" style="color: rgb(51\, 51\, 51)\; font-family: sans-serif\, Arial\, Verdana\, " trebuchet="" />\n<br font-size:="" style="color: rgb(51\, 51\, 51)\; font-family: sans-serif\, Arial\, Verdana\, " trebuchet="" />\n<span font-size:="" style="color: rgb(51\, 51\, 51)\; font-family: sans-serif\, Arial\, Verdana\, " trebuchet=""><span style="font-family: arial\;"><span style="font-size: 12pt\;">This is the perfect opportunity to meet with local builders and promote your business one on one. VIP hour is limited and guarantees each attendee has 4 set appointments. After that there is 2 hours of networking with the Builders\, food and beverage provided. Space is limited sign up now!</span></span></span><br />\n<br />\n<span style="font-size:16px\;"><a href="https://chambermaster.blob.core.windows.net/userfiles/UserFiles/chambers/9232/File/builderselectionform.pdf">Click Here</a><a href="https://chambermaster.blob.core.windows.net/userfiles/UserFiles/chambers/9232/File/xtremeinviteform2.pdf"> </a>for Registration Form</span>
LOCATION:Robb & Stucky 7557 S. Tamiami Trail Sarasota\, FL 34231
UID:e.9232.2829
SEQUENCE:3
DTSTAMP:20260422T095029Z
URL:https://business.suncoastba.org/events/details/x-treme-networking-2829
END:VEVENT

END:VCALENDAR
