BEGIN:VCALENDAR
VERSION:2.0
PRODID:-//ChamberMaster//Event Calendar 2.0//EN
METHOD:PUBLISH
X-PUBLISHED-TTL:P3D
REFRESH-INTERVAL:P3D
CALSCALE:GREGORIAN
BEGIN:VEVENT
DTSTART:20200130T223000Z
DTEND:20200131T003000Z
X-MICROSOFT-CDO-ALLDAYEVENT:FALSE
SUMMARY:YBP 2020 Kick Off Mixer
DESCRIPTION:Join the Young Building Professionals for a 2020 Kick Off Mixer\, sponsored by NanoSeal Southwest Florida!
X-ALT-DESC;FMTTYPE=text/html:Join the Young Building Professionals for a 2020 Kick Off Mixer\, sponsored by NanoSeal Southwest Florida!
LOCATION:MSBIA Office 6650 Professional Parkway West Sarasota\, FL 34240
UID:e.9232.2548
SEQUENCE:3
DTSTAMP:20260424T030233Z
URL:https://business.suncoastba.org/events/details/ybp-2020-kick-off-mixer-2548
END:VEVENT

END:VCALENDAR
