BEGIN:VCALENDAR
VERSION:2.0
PRODID:-//ChamberMaster//Event Calendar 2.0//EN
METHOD:PUBLISH
X-PUBLISHED-TTL:P3D
REFRESH-INTERVAL:P3D
CALSCALE:GREGORIAN
BEGIN:VEVENT
DTSTART:20220421T220000Z
DTEND:20220422T000000Z
X-MICROSOFT-CDO-ALLDAYEVENT:FALSE
SUMMARY:YBP Axe Throwing
DESCRIPTION:Grab a co-worker or friend and come out to mix and mingle with the Young Building Professionals and throw some AXES. Whether you are young or young at heart join us for some cocktails\, appetizers and networking fun!
X-ALT-DESC;FMTTYPE=text/html:<span background-color:="" font-size:="" style="color: rgb(51\, 51\, 51)\; font-family: sans-serif\, Arial\, Verdana\, " trebuchet="">Grab a co-worker or friend and come out to mix and mingle with the Young Building Professionals and throw some AXES. Whether you are young or young at heart join us for some cocktails\, appetizers and networking fun!</span>
LOCATION:Axe & Bull 4088 Bee Ridge Road Sarasota\, FL 34243
UID:e.9232.2844
SEQUENCE:3
DTSTAMP:20260422T141404Z
URL:https://business.suncoastba.org/events/details/ybp-axe-throwing-2844
END:VEVENT

END:VCALENDAR
