BEGIN:VCALENDAR
VERSION:2.0
PRODID:-//ChamberMaster//Event Calendar 2.0//EN
METHOD:PUBLISH
X-PUBLISHED-TTL:P3D
REFRESH-INTERVAL:P3D
CALSCALE:GREGORIAN
BEGIN:VEVENT
DTSTART:20200914T200000Z
DTEND:20200914T210000Z
X-MICROSOFT-CDO-ALLDAYEVENT:FALSE
SUMMARY:YBP Committee Planning Meeting
DESCRIPTION:YBP Committee Planning Meeting\n\nJoin us to plan events for Young Building Professionals Council. Open to all members\, come with some new ideas and input for the upcoming year.
X-ALT-DESC;FMTTYPE=text/html:YBP Committee Planning Meeting<br />\nJoin us to plan events for Young Building Professionals Council. Open to all members\, come with some new ideas and input for the upcoming year.
LOCATION:MSBIA Office 6650 Professional Pkwy West Suite 102 Sarasota\, FL 34240
UID:e.9232.2618
SEQUENCE:3
DTSTAMP:20260423T151018Z
URL:https://business.suncoastba.org/events/details/ybp-committee-planning-meeting-2618
END:VEVENT

END:VCALENDAR
