BEGIN:VCALENDAR
VERSION:2.0
PRODID:-//ChamberMaster//Event Calendar 2.0//EN
METHOD:PUBLISH
X-PUBLISHED-TTL:P3D
REFRESH-INTERVAL:P3D
CALSCALE:GREGORIAN
BEGIN:VEVENT
DTSTART:20210121T223000Z
DTEND:20210122T003000Z
X-MICROSOFT-CDO-ALLDAYEVENT:FALSE
SUMMARY:YBP Community Give Back Crawl
DESCRIPTION:Come Mix and Mingle with the Young Building Professionals. Join us for a fun evening while we give back to our local community by participating in a scavenger hunt! $5 to attend\, please pre-register. \n\n\n\nParticipating Bars and Restaurants: Big Olaf Creamery\, Casa Maya Restaurant\, CRAFT Growlers To Go\, Ed's Tavern\, Grove Restaurant\, Main Street Trattoria\, McGrath's Irish Ale House and Pincher's!\n\n\n\nPrizes for the 1st place team!!!! Sponsorships available contact Rebecca@ms-bia.org.
X-ALT-DESC;FMTTYPE=text/html:Come Mix and Mingle with the Young Building Professionals. Join us for a fun evening while we give back to our local community by participating in a scavenger hunt! $5 to attend\, please pre-register.&nbsp\;<br>\n<br>\nParticipating Bars and Restaurants: Big Olaf Creamery\, Casa Maya Restaurant\, CRAFT Growlers To Go\, Ed's Tavern\, Grove Restaurant\, Main Street Trattoria\, McGrath's Irish Ale House and Pincher's!<br>\n<br>\nPrizes for the 1st place team!!!! Sponsorships available contact Rebecca@ms-bia.org.
LOCATION:Meet at the Grove: 10670 Boardwalk Loop Lakewood Ranch
UID:e.9232.2629
SEQUENCE:3
DTSTAMP:20260423T093402Z
URL:https://business.suncoastba.org/events/details/ybp-community-give-back-crawl-2629
END:VEVENT

END:VCALENDAR
