BEGIN:VCALENDAR
VERSION:2.0
PRODID:-//ChamberMaster//Event Calendar 2.0//EN
METHOD:PUBLISH
X-PUBLISHED-TTL:P3D
REFRESH-INTERVAL:P3D
CALSCALE:GREGORIAN
BEGIN:VEVENT
DTSTART:20220317T213000Z
DTEND:20220317T233000Z
X-MICROSOFT-CDO-ALLDAYEVENT:FALSE
SUMMARY:YBP Pub Crawl
DESCRIPTION:Come Mix and Mingle with the Young Building Professionals. Join us for a fun evening while we give back to our local community by participating in a scavenger hunt! $5 to attend\, please pre-register. \n\n\n\nPrizes for the 1st place team!!!! Sponsorships available contact Rebecca@ms-bia.org.
X-ALT-DESC;FMTTYPE=text/html:Come Mix and Mingle with the Young Building Professionals. Join us for a fun evening while we give back to our local community by participating in a scavenger hunt! $5 to attend\, please pre-register.&nbsp\;<br />\n<br />\nPrizes for the 1st place team!!!! Sponsorships available contact Rebecca@ms-bia.org.
LOCATION:Lakewood Ranch Main Street
UID:e.9232.2681
SEQUENCE:3
DTSTAMP:20260422T141415Z
URL:https://business.suncoastba.org/events/details/ybp-pub-crawl-2681
END:VEVENT

END:VCALENDAR
