BEGIN:VCALENDAR
VERSION:2.0
PRODID:-//ChamberMaster//Event Calendar 2.0//EN
METHOD:PUBLISH
X-PUBLISHED-TTL:P3D
REFRESH-INTERVAL:P3D
CALSCALE:GREGORIAN
BEGIN:VEVENT
DTSTART:20210708T213000Z
DTEND:20210709T000000Z
X-MICROSOFT-CDO-ALLDAYEVENT:FALSE
SUMMARY:YBP & PWB- Beers and Backpacks
DESCRIPTION:The Young Building Professionals and the Professional Women in Building will be supporting the Boys & Girls Club of Sarasota County by helping stuff backpacks full of school supplies! Please join us at the MSBIA Office for....Beer & Backpacks!\n\n\n\nPlease donate school supplies or gift cards. With your help we can make this upcoming year more successful for many appreciative students!\n\n\n\nItems Requested: Composition Books\, Folders\, Pens/Pencils/Markers\, Glue Sticks\, Tissues\, Hand Sanitizer\n\n\n\nIf you are unable to attend this event but still want to help out\, we are accepting sponsorships contact Rebecca@ms-bia.org or you can drop off supplies or gift cards at the BIA Office.
X-ALT-DESC;FMTTYPE=text/html:The Young Building Professionals and the Professional Women in Building will be supporting the Boys &amp\; Girls Club of Sarasota County by helping stuff backpacks full of school supplies! Please join us at the MSBIA Office for....<strong>Beer &amp\; Backpacks!</strong><br />\n<br />\nPlease donate school supplies or gift cards. With your help we can make this upcoming year more successful for many appreciative students!<br />\n<br />\nItems Requested: Composition Books\, Folders\, Pens/Pencils/Markers\, Glue Sticks\, Tissues\, Hand Sanitizer<br />\n<br />\nIf you are unable to attend this event but still want to help out\, we are accepting sponsorships contact&nbsp\;Rebecca@ms-bia.org or you can drop off supplies or gift cards at the BIA Office.
LOCATION:6650 Professional Parkway W\, Ste 102\, Sarasota FL 34240
UID:e.9232.2651
SEQUENCE:3
DTSTAMP:20260423T025404Z
URL:https://business.suncoastba.org/events/details/ybp-pwb-beers-and-backpacks-2651
END:VEVENT

END:VCALENDAR
