BEGIN:VCALENDAR
VERSION:2.0
PRODID:-//ChamberMaster//Event Calendar 2.0//EN
METHOD:PUBLISH
X-PUBLISHED-TTL:P3D
REFRESH-INTERVAL:P3D
CALSCALE:GREGORIAN
BEGIN:VEVENT
DTSTART:20200422T220000Z
DTEND:20200422T230000Z
X-MICROSOFT-CDO-ALLDAYEVENT:FALSE
SUMMARY:YBP & PWB Quarantine Happy Hour
DESCRIPTION:Join us for a joint Young Building Professionals & Professional Women in Building Happy Hour & Quarantine Trivia Bingo!
X-ALT-DESC;FMTTYPE=text/html:Join us for a joint Young Building Professionals &amp\; Professional Women in Building Happy Hour &amp\; Quarantine Trivia Bingo!
LOCATION:Virtual Zoom Meeting - YOU MUST REGISTER FOR THE MEETING CODE!
UID:e.9232.2593
SEQUENCE:3
DTSTAMP:20260423T232243Z
URL:https://business.suncoastba.org/events/details/ybp-pwb-quarantine-happy-hour-2593
END:VEVENT

END:VCALENDAR
