BEGIN:VCALENDAR
VERSION:2.0
PRODID:-//ChamberMaster//Event Calendar 2.0//EN
METHOD:PUBLISH
X-PUBLISHED-TTL:P3D
REFRESH-INTERVAL:P3D
CALSCALE:GREGORIAN
BEGIN:VEVENT
DTSTART:20210317T213000Z
DTEND:20210317T233000Z
X-MICROSOFT-CDO-ALLDAYEVENT:FALSE
SUMMARY:YBP St. Patty's Day Cornhole Tournament
DESCRIPTION:St. Patty's Day Cornhole Tournament with the Young Building Professionals. Come mix\, mingle and play Cornhole with your fellow Members!
X-ALT-DESC;FMTTYPE=text/html:St. Patty&#39\;s Day Cornhole Tournament with the Young Building Professionals.&nbsp\;<span style="color: rgb(51\, 51\, 51)\; font-family: sans-serif\, Arial\, Verdana\, &quot\;Trebuchet MS&quot\;\; font-size: 13px\; background-color: rgb(255\, 255\, 255)\;">Come mix\, mingle and play Cornhole with your fellow Members!</span>
LOCATION:Evie's Tavern on the Range 4275 Bee Ridge Road. Sarasota\, FL. 34233
UID:e.9232.2639
SEQUENCE:3
DTSTAMP:20260423T065527Z
URL:https://business.suncoastba.org/events/details/ybp-st-patty-s-day-cornhole-tournament-2639
END:VEVENT

END:VCALENDAR
