BEGIN:VCALENDAR
VERSION:2.0
PRODID:-//ChamberMaster//Event Calendar 2.0//EN
METHOD:PUBLISH
X-PUBLISHED-TTL:P3D
REFRESH-INTERVAL:P3D
CALSCALE:GREGORIAN
BEGIN:VEVENT
DTSTART:20150219T223000Z
DTEND:20150220T003000Z
X-MICROSOFT-CDO-ALLDAYEVENT:FALSE
SUMMARY:Young Builders Network Mixer
DESCRIPTION:Whether you are young or young at heart\, join the Young Builders Network for a networking event! Come Mix and Mingle with your fellow members!
X-ALT-DESC;FMTTYPE=text/html:<span style="color:#000000\;"><span style="font-size:14px\;"><span style="font-family:arial\;">Whether you are young or young at heart\,&nbsp\;join the Young Builders Network for a networking event! <span style="font-weight:bold\;language:en-US\;">Come Mix and Mingle with your fellow members! </span></span></span></span>
LOCATION:Evie's Tavern on the Range 4725 Bee Ridge Road\, Sarasota FL
UID:e.9232.592
SEQUENCE:3
DTSTAMP:20260422T061816Z
URL:https://business.suncoastba.org/events/details/young-builders-network-mixer-02-19-2015-592
END:VEVENT

END:VCALENDAR
