BEGIN:VCALENDAR
VERSION:2.0
PRODID:-//ChamberMaster//Event Calendar 2.0//EN
METHOD:PUBLISH
X-PUBLISHED-TTL:P3D
REFRESH-INTERVAL:P3D
CALSCALE:GREGORIAN
BEGIN:VEVENT
DTSTART:20150820T210000Z
DTEND:20150820T230000Z
X-MICROSOFT-CDO-ALLDAYEVENT:FALSE
SUMMARY:Young Builders Network Mixer
DESCRIPTION:Grab a co-worker or friend and come out to mix and mingle with the Young Builders Network at World Of Beer\, Downtown Sarasota. Whether you are young or young at heart join us for some cocktails\, appetizers and networking fun!
X-ALT-DESC;FMTTYPE=text/html:Grab a co-worker or friend and come out to mix and mingle with the Young Builders Network at World Of Beer\, Downtown Sarasota. Whether you are young or young at heart join us for some cocktails\, appetizers and networking fun!<span style="color:#000000\;"><span style="font-size:14px\;"><span style="font-family:arial\;"><span style="font-weight:bold\;language:en-US\;"> </span></span></span></span>
LOCATION:WORLD OF BEER 1888 Main Street Sarasota\, FL
UID:e.9232.893
SEQUENCE:3
DTSTAMP:20260421T184523Z
URL:https://business.suncoastba.org/events/details/young-builders-network-mixer-08-20-2015-893
END:VEVENT

END:VCALENDAR
