BEGIN:VCALENDAR
VERSION:2.0
PRODID:-//ChamberMaster//Event Calendar 2.0//EN
METHOD:PUBLISH
X-PUBLISHED-TTL:P3D
REFRESH-INTERVAL:P3D
CALSCALE:GREGORIAN
BEGIN:VEVENT
DTSTART:20170719T213000Z
DTEND:20170720T003000Z
X-MICROSOFT-CDO-ALLDAYEVENT:FALSE
SUMMARY:Young Builders Network Mixer July 2017
DESCRIPTION:Whether you are young or young at heart\, join the Young Builders Network for a networking event!\n\nWednesday\, July 19th  5:30pm-8:30pm  Beer & Burger Joint at the UTC Mall \n\n\n\nYBN BRINGS THE SCHOOL SUPPLIES!!!\n\nThe Young Builders Network will be supporting local elementary schools by helping stock backpacks and desks full of school supplies! Please join us at Burger & Beer Joint\, at UTC for drinks and networking. Cost to attend is $10.00 or please bring a gift card or school supplies. With your help we can make this upcoming year more successful for many appreciative students!\n\nItems Requested: Backpacks\, Composition Books\, Folders\, Pens/Pencils/Markers\, Glue Stick\, Tissues\, Hand Sanitizer\n\nGift Cards\n\n\n\nIf you are unable to attend this event but still want to help out\, you can drop off supplies or gift cards at the MSBIA office: Manatee-Sarasota BIA 6650 Professional Parkway West\, Ste 102 Sarasota\, FL 34240
X-ALT-DESC;FMTTYPE=text/html:<p>Whether you are young or young at heart\, join the Young Builders Network for a networking event!<br />\nWednesday\,&nbsp\;July 19th&nbsp\; 5:30pm-8:30pm&nbsp\;&nbsp\;Beer &amp\; Burger Joint at the UTC Mall&nbsp\;<br />\n<br />\nYBN BRINGS THE SCHOOL SUPPLIES!!!<br />\nThe Young Builders Network will be supporting local elementary schools by helping stock backpacks and desks full of school supplies! Please join us at Burger &amp\; Beer Joint\, at UTC for drinks and networking. Cost to attend is $10.00 or please bring a gift card or school supplies. With your help we can make this upcoming year more successful for many appreciative students!<br />\nItems Requested:&nbsp\;Backpacks\,&nbsp\;Composition Books\,&nbsp\;Folders\,&nbsp\;Pens/Pencils/Markers\,&nbsp\;Glue Stick\,&nbsp\;Tissues\,&nbsp\;Hand Sanitizer<br />\nGift Cards<br />\n<br />\nIf you are unable to attend this event but still want to help out\, you can drop off supplies or gift cards at the MSBIA office:&nbsp\;Manatee-Sarasota BIA 6650 Professional Parkway West\, Ste 102 Sarasota\, FL 34240</p>\n
LOCATION:Beer & Burger Joint at the UTC Mall Stuff A Backpack!
UID:e.9232.1582
SEQUENCE:3
DTSTAMP:20260422T181942Z
URL:https://business.suncoastba.org/events/details/young-builders-network-mixer-july-2017-1582
END:VEVENT

END:VCALENDAR
