BEGIN:VCALENDAR
VERSION:2.0
PRODID:-//ChamberMaster//Event Calendar 2.0//EN
METHOD:PUBLISH
X-PUBLISHED-TTL:P3D
REFRESH-INTERVAL:P3D
CALSCALE:GREGORIAN
BEGIN:VEVENT
DTSTART:20160324T210000Z
DTEND:20160324T230000Z
X-MICROSOFT-CDO-ALLDAYEVENT:FALSE
SUMMARY:Young Builders Network Mixer March 2016
DESCRIPTION:Grab a co-worker or friend and come out to mix and mingle with the Young Builders Network.. Whether you are young or young at heart join us for some cocktails\, appetizers and networking fun!
X-ALT-DESC;FMTTYPE=text/html:Grab a co-worker or friend and come out to mix and mingle with the Young Builders Network.. Whether you are young or young at heart join us for some cocktails\, appetizers and networking fun!<span style="color:#000000\;"><span style="font-size:14px\;"><span style="font-family:arial\;"><span style="font-weight:bold\;language:en-US\;"> </span></span></span></span>
LOCATION:Buffalo Wild Wings 5235 University Parkway University Park\, FL
UID:e.9232.1239
SEQUENCE:3
DTSTAMP:20260421T143619Z
URL:https://business.suncoastba.org/events/details/young-builders-network-mixer-march-2016-03-24-2016-1239
END:VEVENT

END:VCALENDAR
