BEGIN:VCALENDAR
VERSION:2.0
PRODID:-//ChamberMaster//Event Calendar 2.0//EN
METHOD:PUBLISH
X-PUBLISHED-TTL:P3D
REFRESH-INTERVAL:P3D
CALSCALE:GREGORIAN
BEGIN:VEVENT
DTSTART:20160922T213000Z
DTEND:20160923T003000Z
X-MICROSOFT-CDO-ALLDAYEVENT:FALSE
SUMMARY:Young Builders Network Mixer September 2016
DESCRIPTION:Grab a co-worker or friend and come out to mix and mingle with the Young Builders Network.. Whether you are young or young at heart join us for some cocktails\, appetizers and networking fun!\n\n\n\nSeptember is also CORNHOLE TOURNAMENT TIME!
X-ALT-DESC;FMTTYPE=text/html:Grab a co-worker or friend and come out to mix and mingle with the Young Builders Network.. Whether you are young or young at heart join us for some cocktails\, appetizers and networking fun!<br />\n<br />\nSeptember is also&nbsp\;CORNHOLE TOURNAMENT TIME!<span style="color: rgb(0\, 0\, 0)\; font-family: arial\; font-size: 14px\; font-weight: bold\;">&nbsp\;</span>
LOCATION:Mandeville Beer Garden\, 428 N Lemon Ave Sarasota
UID:e.9232.1245
SEQUENCE:3
DTSTAMP:20260422T011744Z
URL:https://business.suncoastba.org/events/details/young-builders-network-mixer-september-2016-09-22-2016-1245
END:VEVENT

END:VCALENDAR
