BEGIN:VCALENDAR
VERSION:2.0
PRODID:-//ChamberMaster//Event Calendar 2.0//EN
METHOD:PUBLISH
X-PUBLISHED-TTL:P3D
REFRESH-INTERVAL:P3D
CALSCALE:GREGORIAN
BEGIN:VEVENT
DTSTART:20180315T213000Z
DTEND:20180316T000000Z
X-MICROSOFT-CDO-ALLDAYEVENT:FALSE
SUMMARY:Young Building Professionals March Mixer
DESCRIPTION:YBP Corn Hole Tournament\n\nGrab a co-worker or friend and come out to mix and mingle with the Young Building Professionals. Whether you are young or young at heart join us for some cocktails\, appetizers and networking fun!
X-ALT-DESC;FMTTYPE=text/html:<span style="color: rgb(51\, 51\, 51)\; font-family: sans-serif\, Arial\, Verdana\, &quot\;Trebuchet MS&quot\;\; font-size: 13px\; background-color: rgb(255\, 255\, 255)\;">YBP&nbsp\;Corn Hole Tournament<br />\nGrab a co-worker or friend and come out to mix and mingle with the Young Building Professionals. Whether you are young or young at heart join us for some cocktails\, appetizers and networking fun!</span>
LOCATION:Mandeville Beer Garden 428 N Lemon Ave\, Sarasota\, FL 34236
UID:e.9232.1795
SEQUENCE:3
DTSTAMP:20260423T075426Z
URL:https://business.suncoastba.org/events/details/young-building-professionals-march-mixer-1795
END:VEVENT

END:VCALENDAR
