BEGIN:VCALENDAR
VERSION:2.0
PRODID:-//ChamberMaster//Event Calendar 2.0//EN
METHOD:PUBLISH
X-PUBLISHED-TTL:P3D
REFRESH-INTERVAL:P3D
CALSCALE:GREGORIAN
BEGIN:VEVENT
DTSTART:20180118T223000Z
DTEND:20180119T010000Z
X-MICROSOFT-CDO-ALLDAYEVENT:FALSE
SUMMARY:Young Building Professionals Mixer
DESCRIPTION:Grab a co-worker or friend and come out to mix and mingle with the Young Building Professionals Network. Whether you are young or young at heart join us for some cocktails\, appetizers and networking fun!
X-ALT-DESC;FMTTYPE=text/html:<span style="color: rgb(51\, 51\, 51)\; font-family: sans-serif\, Arial\, Verdana\, &quot\;Trebuchet MS&quot\;\; font-size: 13px\; background-color: rgb(255\, 255\, 255)\;">Grab a co-worker or friend and come out to mix and mingle with the Young Building Professionals Network. Whether you are young or young at heart join us for some cocktails\, appetizers and networking fun!</span>
LOCATION:Ed's Tavern LWR 10719 Rodeo Dr\, Lakewood Ranch\, FL 34202
UID:e.9232.1787
SEQUENCE:3
DTSTAMP:20260423T044105Z
URL:https://business.suncoastba.org/events/details/young-building-professionals-mixer-1787
END:VEVENT

END:VCALENDAR
