BEGIN:VCALENDAR
VERSION:2.0
PRODID:-//ChamberMaster//Event Calendar 2.0//EN
METHOD:PUBLISH
X-PUBLISHED-TTL:P3D
REFRESH-INTERVAL:P3D
CALSCALE:GREGORIAN
BEGIN:VEVENT
DTSTART:20210520T213000Z
DTEND:20210520T233000Z
X-MICROSOFT-CDO-ALLDAYEVENT:FALSE
SUMMARY:Young Building Professionals Mixer
DESCRIPTION:Grab a co-worker or friend and come out to mix and mingle with the Young Building Professionals Network. Whether you are young or young at heart join us for some cocktails\, appetizers and networking fun!
X-ALT-DESC;FMTTYPE=text/html:<span background-color:="" font-size:="" style="color: rgb(51\, 51\, 51)\; font-family: sans-serif\, Arial\, Verdana\, " trebuchet="">Grab a co-worker or friend and come out to mix and mingle with the Young Building Professionals Network. Whether you are young or young at heart join us for some cocktails\, appetizers and networking fun!</span>
LOCATION:Growler's 8141 Lakewood Main Street #103 Lakewood Ranch\, FL 34202
UID:e.9232.2657
SEQUENCE:3
DTSTAMP:20260423T045150Z
URL:https://business.suncoastba.org/events/details/young-building-professionals-mixer-2657
END:VEVENT

END:VCALENDAR
