BEGIN:VCALENDAR
VERSION:2.0
PRODID:-//ChamberMaster//Event Calendar 2.0//EN
METHOD:PUBLISH
X-PUBLISHED-TTL:P3D
REFRESH-INTERVAL:P3D
CALSCALE:GREGORIAN
BEGIN:VEVENT
DTSTART:20220120T223000Z
DTEND:20220121T003000Z
X-MICROSOFT-CDO-ALLDAYEVENT:FALSE
SUMMARY:Young Building Professionals Mixer
DESCRIPTION:Grab a co-worker or friend and come out to mix and mingle with the Young Building Professionals. Whether you are young or young at heart join us for some cocktails\, appetizers and networking fun!
X-ALT-DESC;FMTTYPE=text/html:<span background-color:="" font-size:="" style="color: rgb(51\, 51\, 51)\; font-family: sans-serif\, Arial\, Verdana\, " trebuchet="">Grab a co-worker or friend and come out to mix and mingle with the Young Building Professionals. Whether you are young or young at heart join us for some cocktails\, appetizers and networking fun!</span>
LOCATION:Big Top Brewery 975 Cattlemen Road Sarasota\, FL 34232
UID:e.9232.2843
SEQUENCE:3
DTSTAMP:20260422T172628Z
URL:https://business.suncoastba.org/events/details/young-building-professionals-mixer-2843
END:VEVENT

END:VCALENDAR
