BEGIN:VCALENDAR
VERSION:2.0
PRODID:-//ChamberMaster//Event Calendar 2.0//EN
METHOD:PUBLISH
X-PUBLISHED-TTL:P3D
REFRESH-INTERVAL:P3D
CALSCALE:GREGORIAN
BEGIN:VEVENT
DTSTART:20180412T213000Z
DTEND:20180413T000000Z
X-MICROSOFT-CDO-ALLDAYEVENT:FALSE
SUMMARY:Young Building Professionals Mixer with CDBIA
DESCRIPTION:Join the Young Building Professionals for a CO-MINGLING networking event with our friends from Charlotte-DeSoto BIA!\n\nBe ready to play some cornhole! \n\nNo cost to attend\, food and beverages on your own. \n\nEmail leslie@ms-bia.org with any questions. \n\nAND DON'T FORGET YOUR BUSINESS CARDS!!!
X-ALT-DESC;FMTTYPE=text/html:<span style="color: rgb(75\, 79\, 86)\; font-family: Helvetica\, Arial\, sans-serif\; font-size: 14px\;">Join the Young Building Professionals for a CO-MINGLING networking event with our friends from Charlotte-DeSoto BIA!</span><br style="color: rgb(75\, 79\, 86)\; font-family: Helvetica\, Arial\, sans-serif\; font-size: 14px\;" />\n<span style="color: rgb(75\, 79\, 86)\; font-family: Helvetica\, Arial\, sans-serif\; font-size: 14px\;">Be ready to play some cornhole!&nbsp\;</span><br style="color: rgb(75\, 79\, 86)\; font-family: Helvetica\, Arial\, sans-serif\; font-size: 14px\;" />\n<span style="color: rgb(75\, 79\, 86)\; font-family: Helvetica\, Arial\, sans-serif\; font-size: 14px\;">No cost to attend\, food and beverages on your own.&nbsp\;</span><br style="color: rgb(75\, 79\, 86)\; font-family: Helvetica\, Arial\, sans-serif\; font-size: 14px\;" />\n<span style="color: rgb(75\, 79\, 86)\; font-family: Helvetica\, Arial\, sans-serif\; font-size: 14px\;">Email leslie@ms-bia.org with any questions.&nbsp\;</span><br style="color: rgb(75\, 79\, 86)\; font-family: Helvetica\, Arial\, sans-serif\; font-size: 14px\;" />\n<span style="color: rgb(75\, 79\, 86)\; font-family: Helvetica\, Arial\, sans-serif\; font-size: 14px\;">AND DON&rsquo\;T FORGET YOUR BUSINESS CARDS!!!</span>
LOCATION:Snook Haven 5000 E Venice Ave\, Venice\, FL 34292
UID:e.9232.1802
SEQUENCE:3
DTSTAMP:20260423T091721Z
URL:https://business.suncoastba.org/events/details/young-building-professionals-mixer-with-cdbia-1802
END:VEVENT

END:VCALENDAR
