BEGIN:VCALENDAR
VERSION:2.0
PRODID:-//ChamberMaster//Event Calendar 2.0//EN
METHOD:PUBLISH
X-PUBLISHED-TTL:P3D
REFRESH-INTERVAL:P3D
CALSCALE:GREGORIAN
BEGIN:VEVENT
DTSTART;VALUE=DATE:20260129
DTEND;VALUE=DATE:20260130
TRANSP:TRANSPARENT
X-MICROSOFT-CDO-ALLDAYEVENT:TRUE
SUMMARY:Your Chance to Win a Primo Grill—And Make a Real Impact
DESCRIPTION:We're excited to announce our Primo All-in-One Oval Ceramic Kamado Grill Raffle!\n\n \n\nThis incredible grill ? valued at $1\,700 ? has been generously donated by G&C Outdoor Kitchens and includes:\n\n \n\nCradle\n\nSide Shelves\n\nStainless Steel Grates\n\n \n\nAll proceeds will benefit our Suncoast Apprenticeship Academy\, helping us continue to grow and strengthen the skilled trades in our community.\n\n \n\n   Raffle Tickets:\n\n1 for $20\n\n3 for $50\n\n \n\nTickets are available through January 29th\, and the winner will be drawn that evening during our Suncoast BA Councils & Committees Showcase event at Gold Coast Eagle. Event is from 5:00pm-7:00pm.\n\n \n\nJoin us at the Showcase to meet our councils and committees\, see what?s new\, and celebrate the trades!\n\nClick here to register for Suncoast Showcase Event!\n\n \n\n \n\nFor questions\, contact Jessica Seper at Jseper@suncoastba.org.
X-ALT-DESC;FMTTYPE=text/html:<div style="text-align: center\;"><span style="color:#1D3567\;"><span style="font-family:arial\,sans-serif\;"><span style="font-size:17.5pt\;">We&#39\;re excited to announce our <strong>Primo All-in-One Oval Ceramic Kamado Grill Raffle!</strong></span></span></span><br />\n&nbsp\;<br />\n<span style="color:#1D3567\;"><span style="font-family:arial\,sans-serif\;"><span style="font-size:15.0pt\;">This incredible grill ? valued at<strong> $1\,700</strong> ? has been generously donated by <strong>G&amp\;C Outdoor Kitchens</strong> and includes:</span></span></span><br />\n&nbsp\;</div>\n\n<div style="text-align: center\;"><span style="color:#1D3567\;"><span style="font-family:arial\,sans-serif\;"><span style="font-size:15.0pt\;">Cradle<br />\n<span style="color:#1D3567\;"><span style="font-family:arial\,sans-serif\;"><span style="font-size:15.0pt\;">Side Shelves<br />\n<span style="color:#1D3567\;"><span style="font-family:arial\,sans-serif\;"><span style="font-size:15.0pt\;">Stainless Steel Grates</span></span></span></span></span></span></span></span></span></div>\n\n<div style="text-align: center\;">&nbsp\;<br />\n<span style="color:#1D3567\;"><span style="font-family:arial\,sans-serif\;"><span style="font-size:15.0pt\;">All proceeds will benefit our <strong>Suncoast Apprenticeship Academy</strong>\, helping us continue to grow and strengthen the skilled trades in our community.</span></span></span><br />\n&nbsp\;<br />\n<span style="color:#1D3567\;"><span style="font-family:segoe ui emoji\,sans-serif\;"><span style="font-size:15.0pt\;">&#127903\;&#65039\;</span></span></span><span style="color:#1D3567\;"><span style="font-family:arial\,sans-serif\;"><span style="font-size:15.0pt\;"> Raffle Tickets:</span></span></span></div>\n\n<div style="text-align: center\;"><span style="color:#1D3567\;"><span style="font-family:arial\,sans-serif\;"><span style="font-size:15.0pt\;">1 for $20</span></span></span></div>\n\n<div style="text-align: center\;"><span style="color:#1D3567\;"><span style="font-family:arial\,sans-serif\;"><span style="font-size:15.0pt\;"><span style="color:#1D3567\;"><span style="font-family:arial\,sans-serif\;"><span style="font-size:15.0pt\;">3 for $50</span></span></span></span></span></span></div>\n\n<div style="text-align: center\;">&nbsp\;<br />\n<span style="color:#1D3567\;"><span style="font-family:arial\,sans-serif\;"><span style="font-size:15.0pt\;">Tickets are available through <strong>January 29th</strong>\, and the winner will be drawn that evening during our <strong>Suncoast BA Councils &amp\; Committees Showcase</strong> event at Gold Coast Eagle. Event is from 5:00pm-7:00pm.</span></span></span><br />\n&nbsp\;<br />\n<em><span style="color:#1D3567\;"><span style="font-family:arial\,sans-serif\;"><span style="font-size:15.0pt\;">Join us at the Showcase to meet our councils and committees\, see what?s new\, and celebrate the trades!</span></span></span></em><br />\n<span style="color:#403F42\;"><span style="font-family:arial\,sans-serif\;"><span style="font-size:9.0pt\;"><a href="https://business.suncoastba.org/events/details/pieces-of-the-puzzle-suncoast-builders-association-councils-committees-showcase-5002?calendarMonth=2026-01-01" target="_blank"><em><span style="color:#48A199\;"><span style="font-size:15.0pt\;">Click here to register for Suncoast Showcase Event!</span></span></em></a></span></span></span><br />\n&nbsp\;<br />\n&nbsp\;<br />\n<span style="color:#1D3567\;"><span style="font-family:arial\,sans-serif\;"><span style="font-size:15.0pt\;">For questions\, contact Jessica Seper at </span></span></span><span style="color:#403F42\;"><span style="font-family:arial\,sans-serif\;"><span style="font-size:9.0pt\;"><a href="" target="_blank"><span style="color:#48A199\;"><span style="font-size:15.0pt\;">Jseper@suncoastba.org</span></span></a></span></span></span><span style="color:#403F42\;"><span style="font-family:arial\,sans-serif\;"><span style="font-size:15.0pt\;">.</span></span></span></div>\n
LOCATION:
UID:e.9232.5313
SEQUENCE:3
DTSTAMP:20260421T191703Z
URL:https://business.suncoastba.org/events/details/your-chance-to-win-a-primo-grill-and-make-a-real-impact-5313
END:VEVENT

END:VCALENDAR
